BEGIN:VCALENDAR
VERSION:2.0
PRODID:-//Kin On - ECPv6.15.20//NONSGML v1.0//EN
CALSCALE:GREGORIAN
METHOD:PUBLISH
X-WR-CALNAME:Kin On
X-ORIGINAL-URL:https://kinon.org
X-WR-CALDESC:Events for Kin On
REFRESH-INTERVAL;VALUE=DURATION:PT1H
X-Robots-Tag:noindex
X-PUBLISHED-TTL:PT1H
BEGIN:VTIMEZONE
TZID:America/Los_Angeles
BEGIN:DAYLIGHT
TZOFFSETFROM:-0800
TZOFFSETTO:-0700
TZNAME:PDT
DTSTART:20210314T100000
END:DAYLIGHT
BEGIN:STANDARD
TZOFFSETFROM:-0700
TZOFFSETTO:-0800
TZNAME:PST
DTSTART:20211107T090000
END:STANDARD
BEGIN:DAYLIGHT
TZOFFSETFROM:-0800
TZOFFSETTO:-0700
TZNAME:PDT
DTSTART:20220313T100000
END:DAYLIGHT
BEGIN:STANDARD
TZOFFSETFROM:-0700
TZOFFSETTO:-0800
TZNAME:PST
DTSTART:20221106T090000
END:STANDARD
BEGIN:DAYLIGHT
TZOFFSETFROM:-0800
TZOFFSETTO:-0700
TZNAME:PDT
DTSTART:20230312T100000
END:DAYLIGHT
BEGIN:STANDARD
TZOFFSETFROM:-0700
TZOFFSETTO:-0800
TZNAME:PST
DTSTART:20231105T090000
END:STANDARD
BEGIN:DAYLIGHT
TZOFFSETFROM:-0800
TZOFFSETTO:-0700
TZNAME:PDT
DTSTART:20240310T100000
END:DAYLIGHT
BEGIN:STANDARD
TZOFFSETFROM:-0700
TZOFFSETTO:-0800
TZNAME:PST
DTSTART:20241103T090000
END:STANDARD
END:VTIMEZONE
BEGIN:VEVENT
DTSTART;TZID=America/Los_Angeles:20230916T173000
DTEND;TZID=America/Los_Angeles:20230916T203000
DTSTAMP:20260422T084603
CREATED:20230728T214308Z
LAST-MODIFIED:20230911T160416Z
UID:12657-1694885400-1694896200@kinon.org
SUMMARY:Kin On 2023 Mid-Autumn Celebration Dinner
DESCRIPTION:As the pandemic gradually slows down\, we are excited to announce that we will have more in-person events this year. This year\, we’re back with Kin On’s biggest live celebration of the year\, the Mid-Autumn Celebration Dinner! Come celebrate with us for a night of entertainment\, dinner\, live auction\, and karaoke with a live band as we raise funds for our senior community.
URL:https://kinon.org/event/kin-on-2023-mid-autumn-celebration-dinner/
LOCATION:Renton Technical College\, 3000 NE 4th St.\, Renton\, 98056
END:VEVENT
BEGIN:VEVENT
DTSTART;TZID=America/Los_Angeles:20230819T100000
DTEND;TZID=America/Los_Angeles:20230819T140000
DTSTAMP:20260422T084603
CREATED:20230728T213705Z
LAST-MODIFIED:20230911T160458Z
UID:12651-1692439200-1692453600@kinon.org
SUMMARY:Kin On Seniors’ Day
DESCRIPTION:In observance of the Double Nine Festival to care for and appreciate the elderly\, Kin On cordially invites you to join the annual Seniors’ Day celebration! This event will take place on Sat\, Aug 19\, 2023 at 10:00AM at Evangelical Chinese Church of Seattle in Redmond. \nEvent program features entertaining performances by both Kin On Healthy Living Program members and local community groups\, fun interactive activities and demonstrations such as Chinese art & craft and technology help\, special keynote and workshops by medical professionals and healthcare experts\, as well as info booths with local health & social services agencies. We also partner with ICHS to host a vaccination pop-up booth during this event. Through this event\, we hope to celebrate seniors’ talents and contributions\, while increasing access to health and social services in the community. This is a great opportunity to connect with the community and show our gratitude to our seniors. \nThe event is free\, and light lunch will be provided. We hope to see you there!
URL:https://kinon.org/event/kin-on-seniors-day/
LOCATION:Evangelical Chinese Church of Seattle\, 651 NW 81st St\, Seattle\, 98117
END:VEVENT
BEGIN:VEVENT
DTSTART;TZID=America/Los_Angeles:20230211T100000
DTEND;TZID=America/Los_Angeles:20230211T120000
DTSTAMP:20260422T084603
CREATED:20230202T202118Z
LAST-MODIFIED:20230911T160510Z
UID:12427-1676109600-1676116800@kinon.org
SUMMARY:Lunar New Year Fair
DESCRIPTION:This celebratory event has fun for the whole family and includes a facility tour and show booths\, such as calligraphy\, craft sales\, and a technology table. We have a variety of activities that include lion dance\, singing\, interactive exercises\, line dance\, and raffles! Capacity is limited\, so make sure to reserve your spot with the link. This event is FREE! Food and refreshment will be available!
URL:https://kinon.org/event/lunar-new-year-fair/
LOCATION:Kin On Community Center – Seattle\, 4416 S Brandon St (lower floor)\, Seattle\, WA\, 98118\, United States
END:VEVENT
BEGIN:VEVENT
DTSTART;TZID=America/Los_Angeles:20220520T103000
DTEND;TZID=America/Los_Angeles:20220520T113000
DTSTAMP:20260422T084603
CREATED:20220518T214519Z
LAST-MODIFIED:20220518T215222Z
UID:11934-1653042600-1653046200@kinon.org
SUMMARY:Bachata Dance
DESCRIPTION:
URL:https://kinon.org/event/bachata-dance/
LOCATION:Kin On Community Center – Seattle\, 4416 S Brandon St (lower floor)\, Seattle\, WA\, 98118\, United States
CATEGORIES:Fitness & Wellness
END:VEVENT
BEGIN:VEVENT
DTSTART;TZID=America/Los_Angeles:20220518T144837
DTEND;TZID=America/Los_Angeles:20220518T144837
DTSTAMP:20260422T084604
CREATED:20210101T091208Z
LAST-MODIFIED:20210101T091208Z
UID:11156-1652885317-1652885317@kinon.org
SUMMARY:Exercise Time 運動時間
DESCRIPTION:李惠玲⽼師將在線上播放精選的各類型運動影⽚，讓⼤家⼀起在家動⼀動，可能會使⽤到彈⼒帶、彈⼒球、⽑⼱、啞鈴、⽔瓶、瑜珈墊或穩固的椅⼦。 \nStay fit and improve your health by exercising together with friends! Teacher Lee will play a selection of online fitness videos for you to follow along with from your home. Participants may use yoga belts\, exercise balls\, resistance bands\, dumbbells\, water bottles\, yoga mats\, and chairs for support. \n*提醒大家，確保您的環境沒有任何障礙，並有足夠的空間進行選擇的活動。確保正確的鞋類。對於大多數運動，不建議穿沒有綁帶的拖鞋，涼鞋和襪子。 \n*Make sure your environment is clear of any obstructions and has sufficient room for the activity of choice. Ensure proper footwear. For most workout programs\, slippers\, sandals\, and socks with no grip may not be advised. \nInstructor導師: Huiling Lee 李惠玲 \nLanguage語言: Mandarin 國語 \n  \nHow to Join 參加方式 \nJoin by Zoom 網址: CLICK HERE TO JOIN MEETING\nMeeting ID 會議號碼: 528304110 | Password 密碼: 4253788181 \n如需幫助請聯繫我們 If you need assistance with joining Zoom\, please contact us at healthyliving@kinon.org
URL:https://kinon.org/event/exercise-time-%e9%81%8b%e5%8b%95%e6%99%82%e9%96%93/
LOCATION:WA
CATEGORIES:Fitness & Wellness
END:VEVENT
END:VCALENDAR