BEGIN:VCALENDAR
VERSION:2.0
PRODID:-//Kin On - ECPv6.15.20//NONSGML v1.0//EN
CALSCALE:GREGORIAN
METHOD:PUBLISH
X-ORIGINAL-URL:https://kinon.org
X-WR-CALDESC:Events for Kin On
REFRESH-INTERVAL;VALUE=DURATION:PT1H
X-Robots-Tag:noindex
X-PUBLISHED-TTL:PT1H
BEGIN:VTIMEZONE
TZID:America/Los_Angeles
BEGIN:DAYLIGHT
TZOFFSETFROM:-0800
TZOFFSETTO:-0700
TZNAME:PDT
DTSTART:20250309T100000
END:DAYLIGHT
BEGIN:STANDARD
TZOFFSETFROM:-0700
TZOFFSETTO:-0800
TZNAME:PST
DTSTART:20251102T090000
END:STANDARD
BEGIN:DAYLIGHT
TZOFFSETFROM:-0800
TZOFFSETTO:-0700
TZNAME:PDT
DTSTART:20260308T100000
END:DAYLIGHT
BEGIN:STANDARD
TZOFFSETFROM:-0700
TZOFFSETTO:-0800
TZNAME:PST
DTSTART:20261101T090000
END:STANDARD
BEGIN:DAYLIGHT
TZOFFSETFROM:-0800
TZOFFSETTO:-0700
TZNAME:PDT
DTSTART:20270314T100000
END:DAYLIGHT
BEGIN:STANDARD
TZOFFSETFROM:-0700
TZOFFSETTO:-0800
TZNAME:PST
DTSTART:20271107T090000
END:STANDARD
END:VTIMEZONE
BEGIN:VEVENT
DTSTART;TZID=America/Los_Angeles:20260228T100000
DTEND;TZID=America/Los_Angeles:20260228T140000
DTSTAMP:20260420T021058
CREATED:20260217T235627Z
LAST-MODIFIED:20260217T235627Z
UID:13632-1772272800-1772287200@kinon.org
SUMMARY:Kin On Lunar New Year Festival
DESCRIPTION:Join us for a festive Lunar New Year Celebration at the Kin On Community Center! This family-friendly event is filled with fun activities\, joyful moments\, and warm community vibes as we welcome the new year with prosperity and happiness. \n歡迎蒞臨健安社區中心，與我們一同參加熱鬧歡樂的農曆新年慶祝活動！這是一場適合全家大小參與的活動，內容豐富精彩，讓我們在喜慶的氛圍中迎接新的一年，祈願吉祥如意、幸福安康。 \n🗓 Date 日期｜Saturday\, February 28\, 2026\n🕙 Time 時間｜10:00 AM – 2:00 PM\n📍 Location 地點｜Kin On Community Center – Seattle (4416 S Brandon St\, Seattle\, WA 98118) \nEvent Registration 活動報名:\nhttps://secure.qgiv.com/for/qoyiny/event/2kolnycc/\nVOLUNTEERS NEEDED 義工招募中︰ https://volunteersignup.org/J8T3A
URL:https://kinon.org/event/kin-on-lunar-new-year-festival/
LOCATION:Kin On Community Center – Seattle\, 4416 S Brandon St (lower floor)\, Seattle\, WA\, 98118\, United States
END:VEVENT
END:VCALENDAR